BEGIN:VCALENDAR
VERSION:2.0
PRODID:-//Center for Developmental Disabilities - CCDKIDS - ECPv6.15.20//NONSGML v1.0//EN
CALSCALE:GREGORIAN
METHOD:PUBLISH
X-WR-CALNAME:Center for Developmental Disabilities - CCDKIDS
X-ORIGINAL-URL:https://cddkids.org
X-WR-CALDESC:Events for Center for Developmental Disabilities - CCDKIDS
REFRESH-INTERVAL;VALUE=DURATION:PT1H
X-Robots-Tag:noindex
X-PUBLISHED-TTL:PT1H
BEGIN:VTIMEZONE
TZID:America/New_York
BEGIN:DAYLIGHT
TZOFFSETFROM:-0500
TZOFFSETTO:-0400
TZNAME:EDT
DTSTART:20180311T070000
END:DAYLIGHT
BEGIN:STANDARD
TZOFFSETFROM:-0400
TZOFFSETTO:-0500
TZNAME:EST
DTSTART:20181104T060000
END:STANDARD
BEGIN:DAYLIGHT
TZOFFSETFROM:-0500
TZOFFSETTO:-0400
TZNAME:EDT
DTSTART:20190310T070000
END:DAYLIGHT
BEGIN:STANDARD
TZOFFSETFROM:-0400
TZOFFSETTO:-0500
TZNAME:EST
DTSTART:20191103T060000
END:STANDARD
BEGIN:DAYLIGHT
TZOFFSETFROM:-0500
TZOFFSETTO:-0400
TZNAME:EDT
DTSTART:20200308T070000
END:DAYLIGHT
BEGIN:STANDARD
TZOFFSETFROM:-0400
TZOFFSETTO:-0500
TZNAME:EST
DTSTART:20201101T060000
END:STANDARD
BEGIN:DAYLIGHT
TZOFFSETFROM:-0500
TZOFFSETTO:-0400
TZNAME:EDT
DTSTART:20210314T070000
END:DAYLIGHT
BEGIN:STANDARD
TZOFFSETFROM:-0400
TZOFFSETTO:-0500
TZNAME:EST
DTSTART:20211107T060000
END:STANDARD
BEGIN:DAYLIGHT
TZOFFSETFROM:-0500
TZOFFSETTO:-0400
TZNAME:EDT
DTSTART:20220313T070000
END:DAYLIGHT
BEGIN:STANDARD
TZOFFSETFROM:-0400
TZOFFSETTO:-0500
TZNAME:EST
DTSTART:20221106T060000
END:STANDARD
BEGIN:DAYLIGHT
TZOFFSETFROM:-0500
TZOFFSETTO:-0400
TZNAME:EDT
DTSTART:20230312T070000
END:DAYLIGHT
BEGIN:STANDARD
TZOFFSETFROM:-0400
TZOFFSETTO:-0500
TZNAME:EST
DTSTART:20231105T060000
END:STANDARD
BEGIN:DAYLIGHT
TZOFFSETFROM:-0500
TZOFFSETTO:-0400
TZNAME:EDT
DTSTART:20240310T070000
END:DAYLIGHT
BEGIN:STANDARD
TZOFFSETFROM:-0400
TZOFFSETTO:-0500
TZNAME:EST
DTSTART:20241103T060000
END:STANDARD
BEGIN:DAYLIGHT
TZOFFSETFROM:-0500
TZOFFSETTO:-0400
TZNAME:EDT
DTSTART:20250309T070000
END:DAYLIGHT
BEGIN:STANDARD
TZOFFSETFROM:-0400
TZOFFSETTO:-0500
TZNAME:EST
DTSTART:20251102T060000
END:STANDARD
END:VTIMEZONE
BEGIN:VEVENT
DTSTART;TZID=America/New_York:20240923T090000
DTEND;TZID=America/New_York:20240923T160000
DTSTAMP:20260423T141611
CREATED:20240819T221124Z
LAST-MODIFIED:20240819T221543Z
UID:2117-1727082000-1727107200@cddkids.org
SUMMARY:C.D.D.'s 12 Annual Golf Tournament 2024
DESCRIPTION:
URL:https://cddkids.org/event/c-d-d-s-12-annual-golf-tournament-2024
LOCATION:Lords Valley Country Club\, 1004 Hemlock Farms Rd\, Lords Valley\, PA\, 18428\, United States
CATEGORIES:Event,Family Fun,Fundraiser
END:VEVENT
BEGIN:VEVENT
DTSTART;TZID=America/New_York:20230715T140000
DTEND;TZID=America/New_York:20230715T190000
DTSTAMP:20260423T141611
CREATED:20230606T200615Z
LAST-MODIFIED:20230606T200708Z
UID:2107-1689429600-1689447600@cddkids.org
SUMMARY:Cornhole Tournament 2023
DESCRIPTION:
URL:https://cddkids.org/event/cornhole-tournament-2023
LOCATION:Side Street Bar & Grill\, 124 Dingmans Court\, Dingmans Ferry\, 18328\, United States
CATEGORIES:Event,Fundraiser
END:VEVENT
BEGIN:VEVENT
DTSTART;TZID=America/New_York:20220606T100000
DTEND;TZID=America/New_York:20220606T170000
DTSTAMP:20260423T141611
CREATED:20220313T195159Z
LAST-MODIFIED:20220313T200529Z
UID:2049-1654509600-1654534800@cddkids.org
SUMMARY:CDD's 10th Annual Golf Outing
DESCRIPTION:Click here to buy tickets or sponsorships to CDD’s 10th Annual Golf Outing .\n  \n  \n  \n  \n 
URL:https://cddkids.org/event/cdds-10th-annual-golf-outing
LOCATION:Skytop Lodge\, One Skytop Lodge Road\, Skytop\, Pennsylvania\, 18357\, United States
CATEGORIES:Event,Fundraiser
ATTACH;FMTTYPE=image/jpeg:https://cddkids.org/wp-content/uploads/2022/03/golf.jpg
END:VEVENT
BEGIN:VEVENT
DTSTART;TZID=America/New_York:20210702T120000
DTEND;TZID=America/New_York:20210702T180000
DTSTAMP:20260423T141611
CREATED:20210616T012139Z
LAST-MODIFIED:20210616T012139Z
UID:1396-1625227200-1625248800@cddkids.org
SUMMARY:ALL YOU CAN EAT HOT DOGS FUNDRAISER
DESCRIPTION:Please come out July 2nd and support C.D.D. with all you can eat hot dogs! Bring the family and friends and we can’t wait to see you!
URL:https://cddkids.org/event/all-you-can-eat-hot-dogs-fundraiser
LOCATION:placeholder-556.png
CATEGORIES:Event,Family Fun,Fundraiser
END:VEVENT
BEGIN:VEVENT
DTSTART;TZID=America/New_York:20210628T090000
DTEND;TZID=America/New_York:20210628T160000
DTSTAMP:20260423T141611
CREATED:20210503T185151Z
LAST-MODIFIED:20210503T185151Z
UID:1352-1624870800-1624896000@cddkids.org
SUMMARY:9th Annual Golf Outing
DESCRIPTION:Please Call for Information!
URL:https://cddkids.org/event/9th-annual-golf-outing
LOCATION:Skytop Lodge\, One Skytop Lodge Road\, Skytop\, Pennsylvania\, 18357\, United States
CATEGORIES:Event,Fundraiser
ATTACH;FMTTYPE=:
END:VEVENT
BEGIN:VEVENT
DTSTART;TZID=America/New_York:20210604T000100
DTEND;TZID=America/New_York:20210604T235900
DTSTAMP:20260423T141611
CREATED:20210523T220422Z
LAST-MODIFIED:20210523T220422Z
UID:1371-1622764860-1622851140@cddkids.org
SUMMARY:NEPA GIVES
DESCRIPTION:About NEPA Gives\nNEPA Gives—a one-day online giving extravaganza that’s all about giving back to the community. Scranton Area Community Foundation\, The Luzerne Foundation\, Greater Pike Community Foundation\, Wayne County Community Foundation\, and the Northeastern Pennsylvania Nonprofit & Community Assistance Center (NCAC) have teamed up to host NEPA Gives. \nFor 24 hours—from 12:00 a.m. to 11:59:59 p.m.—on Friday\, June 4\, 2021\, donors may make secure donations to their favorite local nonprofit organizations through the NEPA Gives online platform. Donations to participating nonprofits will be enhanced with bonus funds provided by NEPA Gives sponsors—making donor dollars stretch further! Nonprofits will also be eligible for cash prizes. Registered 501(c)(3) nonprofit organizations serving residents in Northeastern Pennsylvania can participate in NEPA Gives. And\, anyone can donate! \n  \nCLICK HERE TO DONATE TO NEPA GIVES  \n  \n 
URL:https://cddkids.org/event/nepa-gives
LOCATION:placeholder-556.png
CATEGORIES:Event,Fundraiser
END:VEVENT
BEGIN:VEVENT
DTSTART;TZID=America/New_York:20210519T130000
DTEND;TZID=America/New_York:20210519T133000
DTSTAMP:20260423T141611
CREATED:20210311T181226Z
LAST-MODIFIED:20210311T181226Z
UID:1323-1621429200-1621431000@cddkids.org
SUMMARY:FOODIES' FLING
DESCRIPTION:TICKETS AVAILABLE BELOW (SCROLL DOWN)\nUnfortunately our main fundraising event\, Chefs Do Dinner will not be happening this year as gathering that many people will have to wait a little longer. In lieu of that fantastic event\, CDD will be hosting a virtual event in celebration of our long standing supporters. The local restaurants! We feel it’s a great opportunity to give back to those that have given so much to us! Your virtual admission will get you an opportunity to win up to $5\,500 worth of gift certificates to our local restaurants!  Foodies this will be a Facebook live event and mark your calendars for May 19\, 2021 @ 1:00 p.m.  See you there! * You don’t have to be in attendance to win!\n\nFirst Prize\n$2\,500 in Restaurant Gift Certificates\nSecond Prize\n$1\,500 in Restaurant Gift Certificates\nThird Prize\n$500 in Restaurant Gift Certificates\nFourth Prize (Ten Prizes Available) \n $100 in Restaurant Gift Certificates\n  \nA special thank you to our sponsors! EconoPak and Biondo Investment Advisors\n 
URL:https://cddkids.org/event/foodies-fling
LOCATION:placeholder-556.png
CATEGORIES:Event,Fundraiser
ATTACH;FMTTYPE=:
END:VEVENT
BEGIN:VEVENT
DTSTART;TZID=America/New_York:20201114T090000
DTEND;TZID=America/New_York:20201114T150000
DTSTAMP:20260423T141611
CREATED:20201027T153127Z
LAST-MODIFIED:20201027T153127Z
UID:1129-1605344400-1605366000@cddkids.org
SUMMARY:FALL VENDOR FAIR
DESCRIPTION:
URL:https://cddkids.org/event/fall-vendor-fair
LOCATION:placeholder-556.png
CATEGORIES:Event,Family Fun,Fundraiser
ATTACH;FMTTYPE=:
END:VEVENT
BEGIN:VEVENT
DTSTART;TZID=America/New_York:20201024T090000
DTEND;TZID=America/New_York:20201024T130000
DTSTAMP:20260423T141611
CREATED:20201008T143226Z
LAST-MODIFIED:20201008T143226Z
UID:1107-1603530000-1603544400@cddkids.org
SUMMARY:FARMERS TO FAMILIES MEAL GIVEAWAY
DESCRIPTION:Farmers to Families\nSaturday October 24\, 2020 from 9am-1pm \n Until supplies last (400 meals to be delivered) \nCDD and Sysco’s Central Pennsylvania operating site are proud to offer\, USDA Farmers to Families food box. The boxes of meals are provided for residence of Pike County (proof of residency required). The meals will include a box of frozen meat\, a box of dairy\, a box of produce and a gallon of milk.  The USDA has worked with farmers\, ranchers\, specialty crop producers and distributers to make this possible. CDD will be hosting the pick up on Saturday October 24\, 2020 from 9am – 1pm\, with the help of Thermo King of Middletown\, NY (for the refrigerated trailer) and M&S Septic (for towing the trailer). \n 
URL:https://cddkids.org/event/farmers-to-families-meal-giveaway
LOCATION:placeholder-556.png
CATEGORIES:Event
ATTACH;FMTTYPE=:
END:VEVENT
BEGIN:VEVENT
DTSTART;TZID=America/New_York:20200501T180000
DTEND;TZID=America/New_York:20200501T230000
DTSTAMP:20260423T141611
CREATED:20190913T015524Z
LAST-MODIFIED:20190913T015524Z
UID:1514-1588356000-1588374000@cddkids.org
SUMMARY:A Night At The Races
DESCRIPTION:  \n  \n 
URL:https://cddkids.org/event/a-night-at-the-races
CATEGORIES:Event,Family Fun,Fundraiser
ATTACH;FMTTYPE=:
END:VEVENT
BEGIN:VEVENT
DTSTART;TZID=America/New_York:20200325T173000
DTEND;TZID=America/New_York:20200325T213000
DTSTAMP:20260423T141611
CREATED:20200118T000209Z
LAST-MODIFIED:20200118T000209Z
UID:1521-1585157400-1585171800@cddkids.org
SUMMARY:22nd Annual Chefs Do Dinner
DESCRIPTION:
URL:https://cddkids.org/event/22nd-annual-chefs-do-dinner
LOCATION:PA
CATEGORIES:Event,Fundraiser
ATTACH;FMTTYPE=:
END:VEVENT
BEGIN:VEVENT
DTSTART;TZID=America/New_York:20200222T190000
DTEND;TZID=America/New_York:20200222T230000
DTSTAMP:20260423T141611
CREATED:20200205T014313Z
LAST-MODIFIED:20200205T014313Z
UID:1522-1582398000-1582412400@cddkids.org
SUMMARY:A NIGHT OF STAND-UP COMEDY\, MUSIC AND FOOD TO SUPPORT CDD
DESCRIPTION:SOLD OUT! \n  \n  \nLaugh for a Cause! A Night of Stand-Up Comedy Music and Food to support CDD!
URL:https://cddkids.org/event/a-night-of-stand-up-comedy-music-and-foor-to-support-cdd
LOCATION:PA
CATEGORIES:Event,Family Fun,Fundraiser
ATTACH;FMTTYPE=:
END:VEVENT
BEGIN:VEVENT
DTSTART;TZID=America/New_York:20191207T090000
DTEND;TZID=America/New_York:20191207T110000
DTSTAMP:20260423T141611
CREATED:20191108T164428Z
LAST-MODIFIED:20191108T164428Z
UID:1519-1575709200-1575716400@cddkids.org
SUMMARY:Kris Kringle 5K Race and Fun Walk
DESCRIPTION:Printable PDF Forms to sponsor or register \nRegistration and Sponsor forms
URL:https://cddkids.org/event/kris-kringle-5k-race-and-fun-walk
LOCATION:PA
CATEGORIES:Event,Family Fun,Fundraiser
ORGANIZER;CN="The Knights of Columbus Council #13935":MAILTO:ibright2@optonline.net
END:VEVENT
BEGIN:VEVENT
DTSTART;TZID=America/New_York:20191116T180000
DTEND;TZID=America/New_York:20191116T220000
DTSTAMP:20260423T141611
CREATED:20191022T170503Z
LAST-MODIFIED:20191022T170503Z
UID:1518-1573927200-1573941600@cddkids.org
SUMMARY:Benefit Concert for CDD starring Madison Pisani and Felix and the Cats Band
DESCRIPTION:<
URL:https://cddkids.org/event/madison-pisani-in-concert-felix-and-the-cats-band
LOCATION:PA
CATEGORIES:Event,Fundraiser
END:VEVENT
BEGIN:VEVENT
DTSTART;TZID=America/New_York:20191016T190000
DTEND;TZID=America/New_York:20191016T200000
DTSTAMP:20260423T141611
CREATED:20191011T000825Z
LAST-MODIFIED:20191011T000825Z
UID:1517-1571252400-1571256000@cddkids.org
SUMMARY:Training on ABA for Families
DESCRIPTION:There is training coming up this Wednesday the 16th on ABA for Families. The presenter is a BCBA and former Autistic support classroom teacher\, now the Ed Consultant for DV. Kelly Adams and she is fantastic! The meeting is at 7:00 pm at the Milford Community House @ 201 Broad Street\, Milford PA 18337
URL:https://cddkids.org/event/training-on-aba-for-families
LOCATION:PA
CATEGORIES:Event,Training
ATTACH;FMTTYPE=:
END:VEVENT
BEGIN:VEVENT
DTSTART;TZID=America/New_York:20191010T100000
DTEND;TZID=America/New_York:20191010T113000
DTSTAMP:20260423T141611
CREATED:20190927T193327Z
LAST-MODIFIED:20190927T193327Z
UID:1516-1570701600-1570707000@cddkids.org
SUMMARY:Milford Fire Department Visit
DESCRIPTION:The Children will see a brief presentation from our local Fireman and have a chance to sit in the Fire Truck. This is a great way to introduce children to fire safety awareness! For more information call CDD @ (570) 296-3992. 
URL:https://cddkids.org/event/milford-fire-department-visit
LOCATION:placeholder-556.png
CATEGORIES:Event
ATTACH;FMTTYPE=:
END:VEVENT
BEGIN:VEVENT
DTSTART;TZID=America/New_York:20191002T160000
DTEND;TZID=America/New_York:20191002T180000
DTSTAMP:20260423T141611
CREATED:20190920T173338Z
LAST-MODIFIED:20190920T173338Z
UID:1515-1570032000-1570039200@cddkids.org
SUMMARY:OPEN HOUSE
DESCRIPTION:Come join the teachers and staff for an open house
URL:https://cddkids.org/event/open-house
LOCATION:placeholder-556.png
CATEGORIES:Event,Family Fun
ATTACH;FMTTYPE=:
END:VEVENT
END:VCALENDAR