BEGIN:VCALENDAR
VERSION:2.0
PRODID:-//Center for Developmental Disabilities - CCDKIDS - ECPv6.15.20//NONSGML v1.0//EN
CALSCALE:GREGORIAN
METHOD:PUBLISH
X-WR-CALNAME:Center for Developmental Disabilities - CCDKIDS
X-ORIGINAL-URL:https://cddkids.org
X-WR-CALDESC:Events for Center for Developmental Disabilities - CCDKIDS
REFRESH-INTERVAL;VALUE=DURATION:PT1H
X-Robots-Tag:noindex
X-PUBLISHED-TTL:PT1H
BEGIN:VTIMEZONE
TZID:America/New_York
BEGIN:DAYLIGHT
TZOFFSETFROM:-0500
TZOFFSETTO:-0400
TZNAME:EDT
DTSTART:20180311T070000
END:DAYLIGHT
BEGIN:STANDARD
TZOFFSETFROM:-0400
TZOFFSETTO:-0500
TZNAME:EST
DTSTART:20181104T060000
END:STANDARD
BEGIN:DAYLIGHT
TZOFFSETFROM:-0500
TZOFFSETTO:-0400
TZNAME:EDT
DTSTART:20190310T070000
END:DAYLIGHT
BEGIN:STANDARD
TZOFFSETFROM:-0400
TZOFFSETTO:-0500
TZNAME:EST
DTSTART:20191103T060000
END:STANDARD
BEGIN:DAYLIGHT
TZOFFSETFROM:-0500
TZOFFSETTO:-0400
TZNAME:EDT
DTSTART:20200308T070000
END:DAYLIGHT
BEGIN:STANDARD
TZOFFSETFROM:-0400
TZOFFSETTO:-0500
TZNAME:EST
DTSTART:20201101T060000
END:STANDARD
END:VTIMEZONE
BEGIN:VEVENT
DTSTART;TZID=America/New_York:20191010T100000
DTEND;TZID=America/New_York:20191010T113000
DTSTAMP:20260423T171607
CREATED:20190927T193327Z
LAST-MODIFIED:20190927T193327Z
UID:1516-1570701600-1570707000@cddkids.org
SUMMARY:Milford Fire Department Visit
DESCRIPTION:The Children will see a brief presentation from our local Fireman and have a chance to sit in the Fire Truck. This is a great way to introduce children to fire safety awareness! For more information call CDD @ (570) 296-3992. 
URL:https://cddkids.org/event/milford-fire-department-visit
LOCATION:placeholder-556.png
CATEGORIES:Event
ATTACH;FMTTYPE=:
END:VEVENT
BEGIN:VEVENT
DTSTART;TZID=America/New_York:20191002T160000
DTEND;TZID=America/New_York:20191002T180000
DTSTAMP:20260423T171607
CREATED:20190920T173338Z
LAST-MODIFIED:20190920T173338Z
UID:1515-1570032000-1570039200@cddkids.org
SUMMARY:OPEN HOUSE
DESCRIPTION:Come join the teachers and staff for an open house
URL:https://cddkids.org/event/open-house
LOCATION:placeholder-556.png
CATEGORIES:Event,Family Fun
ATTACH;FMTTYPE=:
END:VEVENT
BEGIN:VEVENT
DTSTART;TZID=America/New_York:20190918T143000
DTEND;TZID=America/New_York:20190918T153000
DTSTAMP:20260423T171607
CREATED:20190913T014008Z
LAST-MODIFIED:20190913T014008Z
UID:1513-1568817000-1568820600@cddkids.org
SUMMARY:Grandparents Day Celebration
DESCRIPTION:Center for Developmental Disabilities would like to welcome Grandparents for a Grandparents Day Celebration. On Wednesday\, September 18th @ 2:30 pm (2:15 for baby room) The children will be making homemade snacks and serving beverages to their guests! Please sign up at the front desk or call Sarah at (570) 296-3992
URL:https://cddkids.org/event/grandparents-day-celebration
LOCATION:placeholder-556.png
ATTACH;FMTTYPE=:
END:VEVENT
BEGIN:VEVENT
DTSTART;TZID=America/New_York:20190915T080000
DTEND;TZID=America/New_York:20190915T235900
DTSTAMP:20260423T171607
CREATED:20190913T012326Z
LAST-MODIFIED:20190913T012326Z
UID:1512-1568534400-1568591940@cddkids.org
SUMMARY:Wawayanda Music On The Farm
DESCRIPTION:Nonstop Live Music\, Food Trucks\, Craft Beer\, Brian’s Backyard Barbaque\, Farmers Market\, Face Painting\, Cartoon Characters\, Petting Zoo\, Corn & Sunflower Mazes\, Hot Rods\, Classic Cars\, Tie Dye Love
URL:https://cddkids.org/event/wawayanda-music-on-the-farm-2
LOCATION:placeholder-548.png
ATTACH;FMTTYPE=image/png:https://cddkids.org/wp-content/uploads/2021/11/placeholder-6.png
END:VEVENT
BEGIN:VEVENT
DTSTART;TZID=America/New_York:20190914T080000
DTEND;TZID=America/New_York:20190914T235900
DTSTAMP:20260423T171607
CREATED:20190912T235000Z
LAST-MODIFIED:20190912T235000Z
UID:1510-1568448000-1568505540@cddkids.org
SUMMARY:Wawayanda Music on the Farm
DESCRIPTION:Nonstop Live Music\, Food Trucks\, Craft Beer\, Brian’s Backyard Barbaque\, Farmers Market\, Face Painting\, Cartoon Characters\, Petting Zoo\, Corn & Sunflower Mazes\, Hot Rods\, Classic Cars\, Tie Dye Love
URL:https://cddkids.org/event/wawayanda-music-on-the-farm
LOCATION:placeholder-548.png
CATEGORIES:Family Fun
ATTACH;FMTTYPE=image/png:https://cddkids.org/wp-content/uploads/2021/11/placeholder-6.png
END:VEVENT
END:VCALENDAR